BEGIN:VCALENDAR
VERSION:2.0
PRODID:-//jEvents 2.0 for Joomla//EN
CALSCALE:GREGORIAN
METHOD:PUBLISH
BEGIN:VTIMEZONE
TZID:Europe/Paris
BEGIN:STANDARD
DTSTART:20221030T020000
RDATE:20230326T030000
TZOFFSETFROM:+0200
TZOFFSETTO:+0100
TZNAME:Europe/Paris CET
END:STANDARD
BEGIN:STANDARD
DTSTART:20231029T020000
RDATE:20240331T030000
TZOFFSETFROM:+0200
TZOFFSETTO:+0100
TZNAME:Europe/Paris CET
END:STANDARD
BEGIN:STANDARD
DTSTART:20241027T020000
RDATE:20250330T030000
TZOFFSETFROM:+0200
TZOFFSETTO:+0100
TZNAME:Europe/Paris CET
END:STANDARD
BEGIN:STANDARD
DTSTART:20251026T020000
RDATE:20260329T030000
TZOFFSETFROM:+0200
TZOFFSETTO:+0100
TZNAME:Europe/Paris CET
END:STANDARD
BEGIN:STANDARD
DTSTART:20261025T020000
RDATE:20270328T030000
TZOFFSETFROM:+0200
TZOFFSETTO:+0100
TZNAME:Europe/Paris CET
END:STANDARD
BEGIN:STANDARD
DTSTART:20271031T020000
RDATE:20280326T030000
TZOFFSETFROM:+0200
TZOFFSETTO:+0100
TZNAME:Europe/Paris CET
END:STANDARD
BEGIN:STANDARD
DTSTART:20281029T020000
RDATE:20290325T030000
TZOFFSETFROM:+0200
TZOFFSETTO:+0100
TZNAME:Europe/Paris CET
END:STANDARD
BEGIN:DAYLIGHT
DTSTART:20220708T000000
RDATE:20221030T020000
TZOFFSETFROM:+0100
TZOFFSETTO:+0200
TZNAME:Europe/Paris CEST
END:DAYLIGHT
BEGIN:DAYLIGHT
DTSTART:20230326T030000
RDATE:20231029T020000
TZOFFSETFROM:+0100
TZOFFSETTO:+0200
TZNAME:Europe/Paris CEST
END:DAYLIGHT
BEGIN:DAYLIGHT
DTSTART:20240331T030000
RDATE:20241027T020000
TZOFFSETFROM:+0100
TZOFFSETTO:+0200
TZNAME:Europe/Paris CEST
END:DAYLIGHT
BEGIN:DAYLIGHT
DTSTART:20250330T030000
RDATE:20251026T020000
TZOFFSETFROM:+0100
TZOFFSETTO:+0200
TZNAME:Europe/Paris CEST
END:DAYLIGHT
BEGIN:DAYLIGHT
DTSTART:20260329T030000
RDATE:20261025T020000
TZOFFSETFROM:+0100
TZOFFSETTO:+0200
TZNAME:Europe/Paris CEST
END:DAYLIGHT
BEGIN:DAYLIGHT
DTSTART:20270328T030000
RDATE:20271031T020000
TZOFFSETFROM:+0100
TZOFFSETTO:+0200
TZNAME:Europe/Paris CEST
END:DAYLIGHT
BEGIN:DAYLIGHT
DTSTART:20280326T030000
RDATE:20281029T020000
TZOFFSETFROM:+0100
TZOFFSETTO:+0200
TZNAME:Europe/Paris CEST
END:DAYLIGHT
END:VTIMEZONE
BEGIN:VEVENT
UID:190586652528ff1e5fb58aacb78572f8
CATEGORIES:Conférences
CREATED:20230127T110019
SUMMARY:Goldschmidt Conference 2023
LOCATION:Palais des congrés\, Lyon
DESCRIPTION:Nous avons le plaisir de vous inviter à partager vos dernières avancées de 
 recherche à la conférence Goldschmidt 2023 qui se tiendra à Lyon, France, d
 u 9 au 14 juillet 2023 dans la session "Fourier transform mass spectrometry
  in biogeochemical studies - new opportunities to address scientific proble
 ms" (session 6d - du thème 6 : Novel methods : nanoscale techniques to big 
 data).\n\n\nLes résumés pour les présentations en présentiel ou à distance 
 sont les bienvenus jusqu'au 1er mars 2023.\nVous trouverez notre session po
 ur la soumission de votre résumé et toute information à l'adresse suivante 
 :\nhttps://conf.goldschmidt.info/goldschmidt/2023/meetingapp.cgi/Session/45
 02 (https://conf.goldschmidt.info/goldschmidt/2023/meetingapp.cgi/Session/4
 502)\nAu plaisir de vous rencontrer en juillet !\nOrganisateurs : Maxime Br
 idoux (Commissariat à l'Énergie Atomique et aux Énergies Alternatives), Phi
 lippe Schmitt-Kopplin (TUM, WZW, Institute of Analytical Food Chemistry), A
 ngelica Bianco (Laboratoire de Météorologie Physique, CNRS/UCA) et Edith Ni
 col (Laboratoire de Chimie Moléculaire, École Polytechnique/CNRS)\n
X-ALT-DESC;FMTTYPE=text/html:<p>Nous avons le plaisir de vous inviter à partager vos dernières avancées 
 de recherche à la conférence Goldschmidt 2023 qui se tiendra à Lyon, France
 , du 9 au 14 juillet 2023 dans la session "Fourier transform mass spectrome
 try in biogeochemical studies - new opportunities to address scientific pro
 blems" (session 6d - du thème 6 : Novel methods : nanoscale techniques to b
 ig data).<br /><br /></p><p>Les résumés pour les présentations en présentie
 l ou à distance sont les bienvenus jusqu'au 1er mars 2023.</p><p>Vous trouv
 erez notre session pour la soumission de votre résumé et toute information 
 à l'adresse suivante :<br /><a href="https://conf.goldschmidt.info/goldschm
 idt/2023/meetingapp.cgi/Session/4502">https://conf.goldschmidt.info/goldsch
 midt/2023/meetingapp.cgi/Session/4502</a></p><p>Au plaisir de vous rencontr
 er en juillet !</p><p>Organisateurs : Maxime Bridoux (Commissariat à l'Éner
 gie Atomique et aux Énergies Alternatives), Philippe Schmitt-Kopplin (TUM, 
 WZW, Institute of Analytical Food Chemistry), Angelica Bianco (Laboratoire 
 de Météorologie Physique, CNRS/UCA) et Edith Nicol (Laboratoire de Chimie M
 oléculaire, École Polytechnique/CNRS)</p>
CONTACT:Edith Nicol
DTSTAMP:20260425T215925
DTSTART;TZID=Europe/Paris;VALUE=DATE:20230709
DTEND;TZID=Europe/Paris;VALUE=DATE:20230715
SEQUENCE:0
TRANSP:OPAQUE
END:VEVENT
END:VCALENDAR