BEGIN:VCALENDAR
VERSION:2.0
PRODID:-//jEvents 2.0 for Joomla//EN
CALSCALE:GREGORIAN
METHOD:PUBLISH
BEGIN:VTIMEZONE
TZID:Europe/Paris
BEGIN:STANDARD
DTSTART:20131027T020000
RDATE:20140330T030000
TZOFFSETFROM:+0200
TZOFFSETTO:+0100
TZNAME:Europe/Paris CET
END:STANDARD
BEGIN:STANDARD
DTSTART:20141026T020000
RDATE:20150329T030000
TZOFFSETFROM:+0200
TZOFFSETTO:+0100
TZNAME:Europe/Paris CET
END:STANDARD
BEGIN:STANDARD
DTSTART:20151025T020000
RDATE:20160327T030000
TZOFFSETFROM:+0200
TZOFFSETTO:+0100
TZNAME:Europe/Paris CET
END:STANDARD
BEGIN:STANDARD
DTSTART:20161030T020000
RDATE:20170326T030000
TZOFFSETFROM:+0200
TZOFFSETTO:+0100
TZNAME:Europe/Paris CET
END:STANDARD
BEGIN:STANDARD
DTSTART:20171029T020000
RDATE:20180325T030000
TZOFFSETFROM:+0200
TZOFFSETTO:+0100
TZNAME:Europe/Paris CET
END:STANDARD
BEGIN:STANDARD
DTSTART:20181028T020000
RDATE:20190331T030000
TZOFFSETFROM:+0200
TZOFFSETTO:+0100
TZNAME:Europe/Paris CET
END:STANDARD
BEGIN:STANDARD
DTSTART:20191027T020000
RDATE:20200329T030000
TZOFFSETFROM:+0200
TZOFFSETTO:+0100
TZNAME:Europe/Paris CET
END:STANDARD
BEGIN:STANDARD
DTSTART:20201025T020000
RDATE:20210328T030000
TZOFFSETFROM:+0200
TZOFFSETTO:+0100
TZNAME:Europe/Paris CET
END:STANDARD
BEGIN:STANDARD
DTSTART:20211031T020000
RDATE:20220327T030000
TZOFFSETFROM:+0200
TZOFFSETTO:+0100
TZNAME:Europe/Paris CET
END:STANDARD
BEGIN:STANDARD
DTSTART:20221030T020000
RDATE:20230326T030000
TZOFFSETFROM:+0200
TZOFFSETTO:+0100
TZNAME:Europe/Paris CET
END:STANDARD
BEGIN:STANDARD
DTSTART:20231029T020000
RDATE:20240331T030000
TZOFFSETFROM:+0200
TZOFFSETTO:+0100
TZNAME:Europe/Paris CET
END:STANDARD
BEGIN:STANDARD
DTSTART:20241027T020000
RDATE:20250330T030000
TZOFFSETFROM:+0200
TZOFFSETTO:+0100
TZNAME:Europe/Paris CET
END:STANDARD
BEGIN:STANDARD
DTSTART:20251026T020000
RDATE:20260329T030000
TZOFFSETFROM:+0200
TZOFFSETTO:+0100
TZNAME:Europe/Paris CET
END:STANDARD
BEGIN:STANDARD
DTSTART:20261025T020000
RDATE:20270328T030000
TZOFFSETFROM:+0200
TZOFFSETTO:+0100
TZNAME:Europe/Paris CET
END:STANDARD
BEGIN:STANDARD
DTSTART:20271031T020000
RDATE:20280326T030000
TZOFFSETFROM:+0200
TZOFFSETTO:+0100
TZNAME:Europe/Paris CET
END:STANDARD
BEGIN:STANDARD
DTSTART:20281029T020000
RDATE:20290325T030000
TZOFFSETFROM:+0200
TZOFFSETTO:+0100
TZNAME:Europe/Paris CET
END:STANDARD
BEGIN:DAYLIGHT
DTSTART:20130511T000000
RDATE:20131027T020000
TZOFFSETFROM:+0100
TZOFFSETTO:+0200
TZNAME:Europe/Paris CEST
END:DAYLIGHT
BEGIN:DAYLIGHT
DTSTART:20140330T030000
RDATE:20141026T020000
TZOFFSETFROM:+0100
TZOFFSETTO:+0200
TZNAME:Europe/Paris CEST
END:DAYLIGHT
BEGIN:DAYLIGHT
DTSTART:20150329T030000
RDATE:20151025T020000
TZOFFSETFROM:+0100
TZOFFSETTO:+0200
TZNAME:Europe/Paris CEST
END:DAYLIGHT
BEGIN:DAYLIGHT
DTSTART:20160327T030000
RDATE:20161030T020000
TZOFFSETFROM:+0100
TZOFFSETTO:+0200
TZNAME:Europe/Paris CEST
END:DAYLIGHT
BEGIN:DAYLIGHT
DTSTART:20170326T030000
RDATE:20171029T020000
TZOFFSETFROM:+0100
TZOFFSETTO:+0200
TZNAME:Europe/Paris CEST
END:DAYLIGHT
BEGIN:DAYLIGHT
DTSTART:20180325T030000
RDATE:20181028T020000
TZOFFSETFROM:+0100
TZOFFSETTO:+0200
TZNAME:Europe/Paris CEST
END:DAYLIGHT
BEGIN:DAYLIGHT
DTSTART:20190331T030000
RDATE:20191027T020000
TZOFFSETFROM:+0100
TZOFFSETTO:+0200
TZNAME:Europe/Paris CEST
END:DAYLIGHT
BEGIN:DAYLIGHT
DTSTART:20200329T030000
RDATE:20201025T020000
TZOFFSETFROM:+0100
TZOFFSETTO:+0200
TZNAME:Europe/Paris CEST
END:DAYLIGHT
BEGIN:DAYLIGHT
DTSTART:20210328T030000
RDATE:20211031T020000
TZOFFSETFROM:+0100
TZOFFSETTO:+0200
TZNAME:Europe/Paris CEST
END:DAYLIGHT
BEGIN:DAYLIGHT
DTSTART:20220327T030000
RDATE:20221030T020000
TZOFFSETFROM:+0100
TZOFFSETTO:+0200
TZNAME:Europe/Paris CEST
END:DAYLIGHT
BEGIN:DAYLIGHT
DTSTART:20230326T030000
RDATE:20231029T020000
TZOFFSETFROM:+0100
TZOFFSETTO:+0200
TZNAME:Europe/Paris CEST
END:DAYLIGHT
BEGIN:DAYLIGHT
DTSTART:20240331T030000
RDATE:20241027T020000
TZOFFSETFROM:+0100
TZOFFSETTO:+0200
TZNAME:Europe/Paris CEST
END:DAYLIGHT
BEGIN:DAYLIGHT
DTSTART:20250330T030000
RDATE:20251026T020000
TZOFFSETFROM:+0100
TZOFFSETTO:+0200
TZNAME:Europe/Paris CEST
END:DAYLIGHT
BEGIN:DAYLIGHT
DTSTART:20260329T030000
RDATE:20261025T020000
TZOFFSETFROM:+0100
TZOFFSETTO:+0200
TZNAME:Europe/Paris CEST
END:DAYLIGHT
BEGIN:DAYLIGHT
DTSTART:20270328T030000
RDATE:20271031T020000
TZOFFSETFROM:+0100
TZOFFSETTO:+0200
TZNAME:Europe/Paris CEST
END:DAYLIGHT
BEGIN:DAYLIGHT
DTSTART:20280326T030000
RDATE:20281029T020000
TZOFFSETFROM:+0100
TZOFFSETTO:+0200
TZNAME:Europe/Paris CEST
END:DAYLIGHT
END:VTIMEZONE
BEGIN:VEVENT
UID:e84a60155406ed2d845eef6dc70907cc
CATEGORIES:Formation
CREATED:20220309T103909
SUMMARY:RMN et Interactions Biologiques : Formation pratique avancée
DESCRIPTION:Objectif de la formation: connaître les principes généraux des interactions
  protéines/ligands (régimes d’échange et phénomènes dynamiques) et stratégi
 e d’étude à adopter \n \nLieu: Institut de Chimie des Substances Naturelles
  1 avenue de la Terrasse 91190 Gif-sur-Yvette\n email:Cette adresse e-mail 
 est protégée contre les robots spammeurs. Vous devez activer le JavaScript 
 pour la visualiser.
				document.getElementById('cloak31a1c6bbe1704e949adae
 631c73fe242').innerHTML = '';
				var prefix = '&#109;a' + 'i&#108;' + '&#1
 16;o';
				var path = 'hr' + 'ef' + '=';
				var addy31a1c6bbe1704e949adae6
 31c73fe242 = 'g&#105;gr&#101;' + '&#64;';
				addy31a1c6bbe1704e949adae631c
 73fe242 = addy31a1c6bbe1704e949adae631c73fe242 + '&#105;csn' + '&#46;' + 'c
 nrs-g&#105;f' + '&#46;' + 'Fr';
				var addy_text31a1c6bbe1704e949adae631c7
 3fe242 = 'g&#105;gr&#101;' + '&#64;' + '&#105;csn' + '&#46;' + 'cnrs-g&#105
 ;f' + '&#46;' + 'fr';document.getElementById('cloak31a1c6bbe1704e949adae631
 c73fe242').innerHTML += '<a ' + path + '\'' + prefix + ':' + addy31a1c6bbe1
 704e949adae631c73fe242 + '\'>'+addy_text31a1c6bbe1704e949adae631c73fe242+''
 ;
		\n Site: http://www.icsn.cnrs-gif.fr/gigre (http://www.icsn.cnrs-gif.fr
 /gigre)\n
X-ALT-DESC;FMTTYPE=text/html:<p>Objectif de la formation: connaître les principes généraux des interacti
 ons protéines/ligands (régimes d’échange et phénomènes dynamiques) et strat
 égie d’étude à adopter <br /> <br />Lieu: Institut de Chimie des Substances
  Naturelles 1 avenue de la Terrasse 91190 Gif-sur-Yvette<br /> email:<span 
 id="cloakef314412ae81cfd33acb165f990d145b"><span id="cloak31a1c6bbe1704e949
 adae631c73fe242">Cette adresse e-mail est protégée contre les robots spamme
 urs. Vous devez activer le JavaScript pour la visualiser.</span><script typ
 e='text/javascript'>
				document.getElementById('cloak31a1c6bbe1704e949ada
 e631c73fe242').innerHTML = '';
				var prefix = '&#109;a' + 'i&#108;' + '&#
 116;o';
				var path = 'hr' + 'ef' + '=';
				var addy31a1c6bbe1704e949adae
 631c73fe242 = 'g&#105;gr&#101;' + '&#64;';
				addy31a1c6bbe1704e949adae631
 c73fe242 = addy31a1c6bbe1704e949adae631c73fe242 + '&#105;csn' + '&#46;' + '
 cnrs-g&#105;f' + '&#46;' + 'Fr';
				var addy_text31a1c6bbe1704e949adae631c
 73fe242 = 'g&#105;gr&#101;' + '&#64;' + '&#105;csn' + '&#46;' + 'cnrs-g&#10
 5;f' + '&#46;' + 'fr';document.getElementById('cloak31a1c6bbe1704e949adae63
 1c73fe242').innerHTML += '<a ' + path + '\'' + prefix + ':' + addy31a1c6bbe
 1704e949adae631c73fe242 + '\'>'+addy_text31a1c6bbe1704e949adae631c73fe242+'
 <\/a>';
		</script></span><br /> Site: <a class="moz-txt-link-freetext" hre
 f="http://www.icsn.cnrs-gif.fr/gigre">http://www.icsn.cnrs-gif.fr/gigre</a>
 </p>
DTSTAMP:20260426T030912
DTSTART;TZID=Europe/Paris;VALUE=DATE:20140512
DTEND;TZID=Europe/Paris;VALUE=DATE:20140517
SEQUENCE:0
TRANSP:OPAQUE
END:VEVENT
END:VCALENDAR