BEGIN:VCALENDAR
VERSION:2.0
PRODID:-//jEvents 2.0 for Joomla//EN
CALSCALE:GREGORIAN
METHOD:PUBLISH
BEGIN:VTIMEZONE
TZID:Europe/Paris
BEGIN:STANDARD
DTSTART:20201025T020000
RDATE:20210328T030000
TZOFFSETFROM:+0200
TZOFFSETTO:+0100
TZNAME:Europe/Paris CET
END:STANDARD
BEGIN:STANDARD
DTSTART:20211031T020000
RDATE:20220327T030000
TZOFFSETFROM:+0200
TZOFFSETTO:+0100
TZNAME:Europe/Paris CET
END:STANDARD
BEGIN:STANDARD
DTSTART:20221030T020000
RDATE:20230326T030000
TZOFFSETFROM:+0200
TZOFFSETTO:+0100
TZNAME:Europe/Paris CET
END:STANDARD
BEGIN:STANDARD
DTSTART:20231029T020000
RDATE:20240331T030000
TZOFFSETFROM:+0200
TZOFFSETTO:+0100
TZNAME:Europe/Paris CET
END:STANDARD
BEGIN:STANDARD
DTSTART:20241027T020000
RDATE:20250330T030000
TZOFFSETFROM:+0200
TZOFFSETTO:+0100
TZNAME:Europe/Paris CET
END:STANDARD
BEGIN:STANDARD
DTSTART:20251026T020000
RDATE:20260329T030000
TZOFFSETFROM:+0200
TZOFFSETTO:+0100
TZNAME:Europe/Paris CET
END:STANDARD
BEGIN:STANDARD
DTSTART:20261025T020000
RDATE:20270328T030000
TZOFFSETFROM:+0200
TZOFFSETTO:+0100
TZNAME:Europe/Paris CET
END:STANDARD
BEGIN:STANDARD
DTSTART:20271031T020000
RDATE:20280326T030000
TZOFFSETFROM:+0200
TZOFFSETTO:+0100
TZNAME:Europe/Paris CET
END:STANDARD
BEGIN:STANDARD
DTSTART:20281029T020000
RDATE:20290325T030000
TZOFFSETFROM:+0200
TZOFFSETTO:+0100
TZNAME:Europe/Paris CET
END:STANDARD
BEGIN:DAYLIGHT
DTSTART:20201020T000000
RDATE:20201025T020000
TZOFFSETFROM:+0100
TZOFFSETTO:+0200
TZNAME:Europe/Paris CEST
END:DAYLIGHT
BEGIN:DAYLIGHT
DTSTART:20210328T030000
RDATE:20211031T020000
TZOFFSETFROM:+0100
TZOFFSETTO:+0200
TZNAME:Europe/Paris CEST
END:DAYLIGHT
BEGIN:DAYLIGHT
DTSTART:20220327T030000
RDATE:20221030T020000
TZOFFSETFROM:+0100
TZOFFSETTO:+0200
TZNAME:Europe/Paris CEST
END:DAYLIGHT
BEGIN:DAYLIGHT
DTSTART:20230326T030000
RDATE:20231029T020000
TZOFFSETFROM:+0100
TZOFFSETTO:+0200
TZNAME:Europe/Paris CEST
END:DAYLIGHT
BEGIN:DAYLIGHT
DTSTART:20240331T030000
RDATE:20241027T020000
TZOFFSETFROM:+0100
TZOFFSETTO:+0200
TZNAME:Europe/Paris CEST
END:DAYLIGHT
BEGIN:DAYLIGHT
DTSTART:20250330T030000
RDATE:20251026T020000
TZOFFSETFROM:+0100
TZOFFSETTO:+0200
TZNAME:Europe/Paris CEST
END:DAYLIGHT
BEGIN:DAYLIGHT
DTSTART:20260329T030000
RDATE:20261025T020000
TZOFFSETFROM:+0100
TZOFFSETTO:+0200
TZNAME:Europe/Paris CEST
END:DAYLIGHT
BEGIN:DAYLIGHT
DTSTART:20270328T030000
RDATE:20271031T020000
TZOFFSETFROM:+0100
TZOFFSETTO:+0200
TZNAME:Europe/Paris CEST
END:DAYLIGHT
BEGIN:DAYLIGHT
DTSTART:20280326T030000
RDATE:20281029T020000
TZOFFSETFROM:+0100
TZOFFSETTO:+0200
TZNAME:Europe/Paris CEST
END:DAYLIGHT
END:VTIMEZONE
BEGIN:VEVENT
UID:3a35c616c79437fac89426fa3c04d874
CATEGORIES:Évènements Infranalytics
CREATED:20220304T125800
SUMMARY:Kick off du projet européen PANACEA, coordonnée par les sites RMN de Lyon et Orléans
DESCRIPTION:La réunion de lancement du projet PANACEA a eu lieu au Centre RMN Haut Cham
 p de Lyon, les 21 et 22 octobre. Tous les partenaires du projet étaient pré
 sents, soit physiquement, soit à distance par visioconférence. L'objectif d
 u projet ainsi que le planning de travail de la première année ont été disc
 utés.PANACEA est un projet européen d’accès coordonné par le CNRS, financé 
 par le programme-cadre Horizon 2020 de la Commission européenne, dans le ca
 dre de l’appel : H2020-INFRAIA-02-2020, thème : Integrating Activities for 
 Starting Communities. Le projet qui a démarré le 1er septembre 2021 pour un
 e durée de quatre ans repose sur trois piliers : l’accès transnational, des
  activités de mise en réseau et des activités de recherche. Plus précisémen
 t, le projet fournira aux utilisateurs européens un accès transnational (17
 00 jours d’instrument) à plus de 30 spectromètres RMN uniques allant de 100
  à 1500 MHz, entièrement équipés pour couvrir les techniques et application
 s RMN à l’état solide les plus avancées. Les instruments sont situés au sei
 n de sept infrastructures nationales distribuées à travers l’Europe et d’un
 e infrastructure aux États-Unis.\nLa plateforme web pour soumettre des prop
 ositions de recherche sera bientôt opérationnelle. Tous les chercheurs euro
 péens (y compris les chercheurs français) du monde universitaire et industr
 iel seront encouragés à utiliser les installations de RMN du solide de PANA
 CEA, pour des projets de recherche pertinents dans le secteur de la chimie 
 (pharmacie, carburants, batteries, phosphores, cosmétiques, développement d
 urable, polymères, denrées alimentaires, cultures, traitement de l’eau, bio
 matériaux, roches et minéraux, ciments, etc.)\nSite web du projet : panacea
 -nmr.eu (http://panacea-nmr.eu)\n
X-ALT-DESC;FMTTYPE=text/html:<div class="article-chapo chapo">La réunion de lancement du projet PANACEA 
 a eu lieu au Centre RMN Haut Champ de Lyon, les 21 et 22 octobre. Tous les 
 partenaires du projet étaient présents, soit physiquement, soit à distance 
 par visioconférence. L'objectif du projet ainsi que le planning de travail 
 de la première année ont été discutés.</div><p>PANACEA est un projet europé
 en d’accès coordonné par le CNRS, financé par le programme-cadre Horizon 20
 20 de la Commission européenne, dans le cadre de l’appel : H2020-INFRAIA-02
 -2020, thème :&nbsp;Integrating Activities for Starting&nbsp;Communities. L
 e projet qui a démarré le 1er septembre 2021 pour une durée de quatre ans r
 epose sur trois piliers : l’accès transnational, des activités de mise en r
 éseau et des activités de recherche. Plus précisément, le projet fournira a
 ux utilisateurs européens un accès transnational (1700 jours d’instrument) 
 à plus de 30 spectromètres RMN uniques allant de 100 à 1500 MHz, entièremen
 t équipés pour couvrir les techniques et applications RMN à l’état solide l
 es plus avancées. Les instruments sont situés au sein de sept infrastructur
 es nationales distribuées à travers l’Europe et d’une infrastructure aux Ét
 ats-Unis.</p><p>La plateforme web pour soumettre des propositions de recher
 che sera bientôt opérationnelle. Tous les chercheurs européens (y compris l
 es chercheurs français) du monde universitaire et industriel seront encoura
 gés à utiliser les installations de RMN du solide de PANACEA, pour des proj
 ets de recherche pertinents dans le secteur de la chimie (pharmacie, carbur
 ants, batteries, phosphores, cosmétiques, développement durable, polymères,
  denrées alimentaires, cultures, traitement de l’eau, biomatériaux, roches 
 et minéraux, ciments, etc.)</p><p>Site web du projet&nbsp;:&nbsp;<a href="h
 ttp://panacea-nmr.eu">panacea-nmr.eu</a></p>
DTSTAMP:20260419T203550
DTSTART;TZID=Europe/Paris;VALUE=DATE:20211021
DTEND;TZID=Europe/Paris;VALUE=DATE:20211023
SEQUENCE:0
TRANSP:OPAQUE
END:VEVENT
END:VCALENDAR